BEGIN:VCALENDAR
VERSION:2.0
PRODID:-//Randonnée en Occitanie, des Pyrénées à la Méditerranée - ECPv6.15.20//NONSGML v1.0//EN
CALSCALE:GREGORIAN
METHOD:PUBLISH
X-WR-CALNAME:Randonnée en Occitanie, des Pyrénées à la Méditerranée
X-ORIGINAL-URL:https://randonnee-occitanie.com
X-WR-CALDESC:Évènements pour Randonnée en Occitanie, des Pyrénées à la Méditerranée
REFRESH-INTERVAL;VALUE=DURATION:PT1H
X-Robots-Tag:noindex
X-PUBLISHED-TTL:PT1H
BEGIN:VTIMEZONE
TZID:Europe/Paris
BEGIN:DAYLIGHT
TZOFFSETFROM:+0100
TZOFFSETTO:+0200
TZNAME:CEST
DTSTART:20250330T010000
END:DAYLIGHT
BEGIN:STANDARD
TZOFFSETFROM:+0200
TZOFFSETTO:+0100
TZNAME:CET
DTSTART:20251026T010000
END:STANDARD
BEGIN:DAYLIGHT
TZOFFSETFROM:+0100
TZOFFSETTO:+0200
TZNAME:CEST
DTSTART:20260329T010000
END:DAYLIGHT
BEGIN:STANDARD
TZOFFSETFROM:+0200
TZOFFSETTO:+0100
TZNAME:CET
DTSTART:20261025T010000
END:STANDARD
BEGIN:DAYLIGHT
TZOFFSETFROM:+0100
TZOFFSETTO:+0200
TZNAME:CEST
DTSTART:20270328T010000
END:DAYLIGHT
BEGIN:STANDARD
TZOFFSETFROM:+0200
TZOFFSETTO:+0100
TZNAME:CET
DTSTART:20271031T010000
END:STANDARD
END:VTIMEZONE
BEGIN:VEVENT
DTSTART;VALUE=DATE:20260101
DTEND;VALUE=DATE:20270101
DTSTAMP:20260426T011805
CREATED:20260119T161243Z
LAST-MODIFIED:20260120T105044Z
UID:12071-1767225600-1798761599@randonnee-occitanie.com
SUMMARY:Calendrier des Manifestations en 2026 FFRandonnée Occitanie
DESCRIPTION:Le calendrier des manifestations en 2026 FFrandonnée Occitanie : Le calendrier 
URL:https://randonnee-occitanie.com/agenda/calendrier-des-manifestations-en-2026-ffrandonnee-occitanie/
CATEGORIES:à la une
ATTACH;FMTTYPE=image/png:https://randonnee-occitanie.com/nvxsite/wp-content/uploads/2026/01/Planning-de-suivi-evenementiel.png
END:VEVENT
BEGIN:VEVENT
DTSTART;VALUE=DATE:20260101
DTEND;VALUE=DATE:20270101
DTSTAMP:20260426T011805
CREATED:20260408T150116Z
LAST-MODIFIED:20260408T150116Z
UID:12231-1767225600-1798761599@randonnee-occitanie.com
SUMMARY:Agenda des randonnées 2026 ouvertes à tous dans le Tarn
DESCRIPTION:Voici l’agenda des randonnées 2026 ouvertes à tous dans le Tarn. \nVoici le lien : Agenda  \n 
URL:https://randonnee-occitanie.com/agenda/agenda-des-randonnees-2026-ouvertes-a-tous-dans-le-tarn/
CATEGORIES:à la une,Randonnée pédestre
ATTACH;FMTTYPE=image/png:https://randonnee-occitanie.com/nvxsite/wp-content/uploads/2026/04/Capture-decran-2026-04-08-165850.png
END:VEVENT
BEGIN:VEVENT
DTSTART;VALUE=DATE:20260101
DTEND;VALUE=DATE:20270101
DTSTAMP:20260426T011805
CREATED:20260120T103136Z
LAST-MODIFIED:20260318T111252Z
UID:12077-1767225600-1798761599@randonnee-occitanie.com
SUMMARY:A chaque dimanche sa rando en Aveyron
DESCRIPTION:Calendrier des randonnées en Aveyron du 1er janvier au 31 décembre 2026. \nVoici le lien : https://randonnee-aveyron.fr/dimanche-rando/ \n 
URL:https://randonnee-occitanie.com/agenda/calendrier-des-randonnees-en-aveyron/
CATEGORIES:Randonnée pédestre
ATTACH;FMTTYPE=image/jpeg:https://randonnee-occitanie.com/nvxsite/wp-content/uploads/2026/01/Cou-ACDSR-2025.jpg
END:VEVENT
BEGIN:VEVENT
DTSTART;VALUE=DATE:20260426
DTEND;VALUE=DATE:20260427
DTSTAMP:20260426T011805
CREATED:20260408T145600Z
LAST-MODIFIED:20260408T145600Z
UID:12228-1777161600-1777247999@randonnee-occitanie.com
SUMMARY:Fête de la randonnée dans les Pyrénées Orientales à Saint Estève
DESCRIPTION:La fête de la randonnée des Pyrénées Orientales aura lieu cette année à St Estève (à l’étang). \nJournée festive autour de la randonnée sous toutes ses formes et tous ses niveaux. \nOuverte à toutes et tous\, adhérents ou pas\, venez en famille\, entre amis ou voisins. \nLa présence de deux food trucks permettra à celles et à ceux qui veulent profiter un peu plus de cette journée de se restaurer\, en profitant de l’animation musicale proposée. \nPlus d’informations et inscriptions : https://cdrp66.fr/fete-de-la-randonnee-26-avril-2026-st-esteve/
URL:https://randonnee-occitanie.com/agenda/fete-de-la-randonnee-dans-les-pyrenees-orientales-a-saint-esteve/
CATEGORIES:à la une,Event,Fête départementale de la randonnée
ATTACH;FMTTYPE=image/png:https://randonnee-occitanie.com/nvxsite/wp-content/uploads/2026/04/Capture-decran-2026-04-08-165342.png
ORGANIZER;CN="FFRandonn%C3%A9e Pyr%C3%A9n%C3%A9es-Orientales":MAILTO:pyrenees-orientales@ffrandonnee.fr
END:VEVENT
END:VCALENDAR